BEGIN:VCALENDAR
VERSION:2.0
PRODID:-//eventon.com NONSGML v1.0//EN
CALSCALE:GREGORIAN
METHOD:PUBLISH
BEGIN:VEVENT
UID:69e75fb7a110e
DTSTAMP:20260421T112959Z
DTSTART:20260326T100000Z
DTEND:20260326T130000Z
LOCATION:FICA - Oficina Criativa (NOVO) Rua Bernardo Lima 10C
SUMMARY:Flash Workshop Marcenaria
DESCRIPTION:Flash Workshop Marcenaria Atenção: Estamos a preparar a mudan
 ça para um novo espaço em 2026. Este workshop vai decorrer na nova oficin
 a na Rua Bernardo Lima 10C. 26 Março 2026Quinta-feira | 10h – 13hPreço 
 — 55€ (Material incluído)Formador — Gonçalo Almeida da FICA Oficina
  CriativaNota: Este workshop decorre no piso[..]\nhttps://fica-oc.pt/en/eve
 nts/flash-workshop-marcenaria-marco-2026-04/
URL:https://fica-oc.pt/en/events/flash-workshop-marcenaria-marco-2026-04/
END:VEVENT
END:VCALENDAR