BEGIN:VCALENDAR
VERSION:2.0
PRODID:-//eventon.com NONSGML v1.0//EN
CALSCALE:GREGORIAN
METHOD:PUBLISH
BEGIN:VEVENT
UID:69e7614d039f2
DTSTAMP:20260421T113645Z
DTSTART:20260221T100000Z
DTEND:20260314T120000Z
LOCATION:FICA - Oficina Criativa (NOVO) Rua Bernardo Lima 10C
SUMMARY:Oficina de Cerâmica
DESCRIPTION:Oficina de Cerâmica Conformação Manual + Decoração + Vidra
 gem Atenção: Estamos a preparar a mudança para um novo espaço em 2026. 
 Este workshop vai decorrer na nova oficina na Rua Bernardo Lima 10C. 4 sess
 ões | 11 horas no total21\,  28 Fevereiro\,  7 e 14 Março 2026Sábados10h
  – 13h (21\, [..]\nhttps://fica-oc.pt/en/events/oficina-de-ceramica-sabad
 o-fevereiro-2026/
URL:https://fica-oc.pt/en/events/oficina-de-ceramica-sabado-fevereiro-2026/
END:VEVENT
END:VCALENDAR