BEGIN:VCALENDAR
VERSION:2.0
PRODID:-//eventon.com NONSGML v1.0//EN
CALSCALE:GREGORIAN
METHOD:PUBLISH
BEGIN:VEVENT
UID:69e733af1d169
DTSTAMP:20260421T082207Z
DTSTART:20260214T143000Z
DTEND:20260214T173000Z
LOCATION:FICA - Oficina Criativa (NOVO) Rua Bernardo Lima 10C
SUMMARY:Workshop Nerikomi
DESCRIPTION:Workshop Nerikomi AtenÃ§Ã£o: Estamos a preparar a mudanÃ§a para
  um novo espaÃ§o em 2026. Este workshop vai decorrer na nova oficina na Rua
  Bernardo Lima 10C. 14 de Fevereiro 2026SÃ¡bado | 14h30-17h30PreÃ§o â€” 65â
 ‚¬ (Material incluÃ­do)Formadora â€” Rita Daniel da FICA Oficina Criativa D
 escriÃ§Ã£o Nerikomi Ã© uma tÃ©cnica japonesa que[..]\nhttps://fica-oc.pt/en
 /events/workshop-nerikomi-fevereiro-2026-01/
URL:https://fica-oc.pt/en/events/workshop-nerikomi-fevereiro-2026-01/
END:VEVENT
END:VCALENDAR