BEGIN:VCALENDAR
VERSION:2.0
PRODID:-//eventon.com NONSGML v1.0//EN
CALSCALE:GREGORIAN
METHOD:PUBLISH
BEGIN:VEVENT
UID:69e74d5b2698f
DTSTAMP:20260421T101139Z
DTSTART:20260124T100000Z
DTEND:20260124T130000Z
LOCATION:FICA - Oficina Criativa (NOVO) Rua Bernardo Lima 10C
SUMMARY:Workshop ImpressÃ£o BotÃ¢nica
DESCRIPTION:Workshop ImpressÃ£o BotÃ¢nica AtenÃ§Ã£o: Estamos a preparar a m
 udanÃ§a para um novo espaÃ§o em 2026. Este workshop vai decorrer na nova of
 icina na Rua Bernardo Lima 10C. 24 de Janeiro 2026SÃ¡bado | 10h â€“ 13hPreÃ
 §o â€” 60â‚¬ (Material incluÃ­do)Formadora â€” Tinctorium StudioNota: Este 
 workshop decorre no piso -1\,  acessÃ­vel apenas[..]\nhttps://fica-oc.pt/en
 /events/workshop-impressao-botanica-janeiro-2026/
URL:https://fica-oc.pt/en/events/workshop-impressao-botanica-janeiro-2026/
END:VEVENT
END:VCALENDAR