BEGIN:VCALENDAR
VERSION:2.0
PRODID:-//eventon.com NONSGML v1.0//EN
CALSCALE:GREGORIAN
METHOD:PUBLISH
BEGIN:VEVENT
UID:69e7701f842fb
DTSTAMP:20260421T123959Z
DTSTART:20260402T090000Z
DTEND:20260423T120000Z
LOCATION:FICA - Oficina Criativa (NOVO) Rua Bernardo Lima 10C
SUMMARY:Oficina de CerÃ¢mica
DESCRIPTION:Oficina de CerÃ¢mica ConformaÃ§Ã£o Manual + DecoraÃ§Ã£o + Vidra
 gem 4 sessÃµes | 11 horas no total2\,  9\,  16 e 23 Abril 2026Quintas-feira
 s10h â€“ 13h (2\,  9 e 16 Abril)10h â€“ 12h (23 Abril)PreÃ§o â€” 165â‚¬ (Ma
 terial incluÃ­do)Formadora â€” Rita Daniel da FICA Oficina Criativa DescriÃ
 §Ã£o Nesta Oficina de CerÃ¢mica irÃ¡s[..]\nhttps://fica-oc.pt/en/events/ofi
 cina-de-ceramica-5a-manha-abril-2026/
URL:https://fica-oc.pt/en/events/oficina-de-ceramica-5a-manha-abril-2026/
END:VEVENT
END:VCALENDAR