BEGIN:VCALENDAR
VERSION:2.0
PRODID:-//eventon.com NONSGML v1.0//EN
CALSCALE:GREGORIAN
METHOD:PUBLISH
BEGIN:VEVENT
UID:69e76fd0e2d25
DTSTAMP:20260421T123840Z
DTSTART:20260509T090000Z
DTEND:20260530T120000Z
LOCATION:FICA - Oficina Criativa (NOVO) Rua Bernardo Lima 10C
SUMMARY:Oficina de CerÃ¢mica
DESCRIPTION:Oficina de CerÃ¢mica ConformaÃ§Ã£o Manual + DecoraÃ§Ã£o + Vidra
 gem 4 sessÃµes | 11 horas no total9\,  16\,  23 e 30 Maio 2026SÃ¡bados10h â
 €“ 13h (9\,  16\,  23 Maio)10h â€“ 12h (30 Maio)PreÃ§o â€” 165â‚¬ (Material
  incluÃ­do)Formadora â€” Mariana Costa da FICA Oficina Criativa DescriÃ§Ã£o
  Nesta Oficina de CerÃ¢mica irÃ¡s aprender[..]\nhttps://fica-oc.pt/en/event
 s/oficina-de-ceramica-sabado-maio-2026/
URL:https://fica-oc.pt/en/events/oficina-de-ceramica-sabado-maio-2026/
END:VEVENT
END:VCALENDAR