BEGIN:VCALENDAR
VERSION:2.0
PRODID:-//eventon.com NONSGML v1.0//EN
CALSCALE:GREGORIAN
METHOD:PUBLISH
BEGIN:VEVENT
UID:69e76fe75cfef
DTSTAMP:20260421T123903Z
DTSTART:20260411T090000Z
DTEND:20260411T120000Z
LOCATION:FICA - Oficina Criativa (NOVO) Rua Bernardo Lima 10C
SUMMARY:Flash Workshop CerÃ¢mica
DESCRIPTION:Flash Workshop CerÃ¢mica Este workshop vai decorrer na nova ofi
 cina na Rua Bernardo Lima 10C. 11 de Abril 2026SÃ¡bado | 10h â€“ 13hPreÃ§o 
 â€” 60â‚¬ (Material incluÃ­do)Formadora â€” Mariana Costa da FICA Oficina C
 riativa DescriÃ§Ã£o O Flash Workshop CerÃ¢mica Ã© um workshop de introduÃ§Ã
 £o e Ã© ideal como primeiro contacto[..]\nhttps://fica-oc.pt/en/events/flas
 h-workshop-ceramica-abril-2026-01/
URL:https://fica-oc.pt/en/events/flash-workshop-ceramica-abril-2026-01/
END:VEVENT
END:VCALENDAR