BEGIN:VCALENDAR
VERSION:2.0
PRODID:-//eventon.com NONSGML v1.0//EN
CALSCALE:GREGORIAN
METHOD:PUBLISH
BEGIN:VEVENT
UID:69e76f59d17b1
DTSTAMP:20260421T123641Z
DTSTART:20260530T133000Z
DTEND:20260530T163000Z
LOCATION:FICA - Oficina Criativa (NOVO) Rua Bernardo Lima 10C
SUMMARY:Flash Workshop CerÃ¢mica
DESCRIPTION:Flash Workshop CerÃ¢mica Este workshop vai decorrer na nova ofi
 cina na Rua Bernardo Lima 10C. 30 de Maio 2026SÃ¡bado | 14h30 â€“ 17h30PreÃ
 §o â€” 60â‚¬ (Material incluÃ­do)Formadora â€” Mariana Costa da FICA Oficin
 a Criativa DescriÃ§Ã£o O Flash Workshop CerÃ¢mica Ã© um workshop de introdu
 Ã§Ã£o e Ã© ideal como primeiro contacto[..]\nhttps://fica-oc.pt/en/events/f
 lash-workshop-ceramica-maio-2026-03/
URL:https://fica-oc.pt/en/events/flash-workshop-ceramica-maio-2026-03/
END:VEVENT
END:VCALENDAR