BEGIN:VCALENDAR
VERSION:2.0
PRODID:-//eventon.com NONSGML v1.0//EN
CALSCALE:GREGORIAN
METHOD:PUBLISH
BEGIN:VEVENT
UID:69e76f933b56e
DTSTAMP:20260421T123739Z
DTSTART:20260516T133000Z
DTEND:20260516T163000Z
LOCATION:FICA - Oficina Criativa (NOVO) Rua Bernardo Lima 10C
SUMMARY:Flash Workshop Olaria
DESCRIPTION:Flash Workshop Olaria Este workshop vai decorrer na nova oficin
 a na Rua Bernardo Lima 10C. 16 de Maio 2026Sábado | 14h30 – 17h30Preço 
 — 65€ (Material incluído)Formadora — Rita Daniel da FICA Oficina Cri
 ativa Descrição O Flash Workshop Olaria é uma introdução prática à r
 oda de oleiro\,  pensado como primeiro[..]\nhttps://fica-oc.pt/en/events/fl
 ash-workshop-olaria-maio-2026-02/
URL:https://fica-oc.pt/en/events/flash-workshop-olaria-maio-2026-02/
END:VEVENT
END:VCALENDAR