BEGIN:VCALENDAR
VERSION:2.0
PRODID:-//eventon.com NONSGML v1.0//EN
CALSCALE:GREGORIAN
METHOD:PUBLISH
BEGIN:VEVENT
UID:69e76f92184a8
DTSTAMP:20260421T123738Z
DTSTART:20260522T090000Z
DTEND:20260522T120000Z
LOCATION:FICA - Oficina Criativa (NOVO) Rua Bernardo Lima 10C
SUMMARY:Flash Workshop Olaria
DESCRIPTION:Flash Workshop Olaria Este workshop vai decorrer na nova oficin
 a na Rua Bernardo Lima 10C. 22 de Maio 2026Sexta-feira | 10h – 13hPreço 
 — 65€ (Material incluído)Formadora — Rita Daniel da FICA Oficina Cri
 ativa Descrição O Flash Workshop Olaria é uma introdução prática à r
 oda de oleiro\,  pensado como primeiro[..]\nhttps://fica-oc.pt/en/events/fl
 ash-workshop-olaria-maio-2026-03/
URL:https://fica-oc.pt/en/events/flash-workshop-olaria-maio-2026-03/
END:VEVENT
END:VCALENDAR