BEGIN:VCALENDAR
VERSION:2.0
PRODID:-//eventon.com NONSGML v1.0//EN
CALSCALE:GREGORIAN
METHOD:PUBLISH
BEGIN:VEVENT
UID:69e735c11527c
DTSTAMP:20260421T083057Z
DTSTART:20260627T090000Z
DTEND:20260627T120000Z
LOCATION:FICA - Oficina Criativa (NOVO) Rua Bernardo Lima 10C
SUMMARY:Flash Workshop Olaria
DESCRIPTION:Flash Workshop Olaria Este workshop vai decorrer na nova oficin
 a na Rua Bernardo Lima 10C. 27 de Junho 2026Sábado | 10h – 13hPreço —
  65€ (Material incluído)Formadora — Rita Daniel da FICA Oficina Criati
 va Descrição O Flash Workshop Olaria é uma introdução prática à roda
  de oleiro\,  pensado como primeiro[..]\nhttps://fica-oc.pt/en/events/flash
 -workshop-olaria-junho-2026-02/
URL:https://fica-oc.pt/en/events/flash-workshop-olaria-junho-2026-02/
END:VEVENT
END:VCALENDAR