BEGIN:VCALENDAR
VERSION:2.0
PRODID:-//eventon.com NONSGML v1.0//EN
CALSCALE:GREGORIAN
METHOD:PUBLISH
BEGIN:VEVENT
UID:69e76c6c1df53
DTSTAMP:20260421T122412Z
DTSTART:20260502T090000Z
DTEND:20260502T160000Z
LOCATION:FICA - Oficina Criativa (NOVO) Rua Bernardo Lima 10C
SUMMARY:Workshop Intensivo Olaria
DESCRIPTION:Workshop Intensivo Olaria 2 de Maio 2026Sábado | 10h – 13h /
  14h &#8211; 17hPreço — 110€ (Material incluído)Formadora — Rita Da
 niel da FICA Oficina Criativa Descrição O Workshop Intensivo Olaria conce
 ntra o processo de criação e acabamento num único dia\,  dividido em dua
 s sessões. Durante a manhã\,  o trabalho[..]\nhttps://fica-oc.pt/en/event
 s/workshop-intensivo-olaria-maio-2026/
URL:https://fica-oc.pt/en/events/workshop-intensivo-olaria-maio-2026/
END:VEVENT
END:VCALENDAR