BEGIN:VCALENDAR
VERSION:2.0
PRODID:-//eventon.com NONSGML v1.0//EN
CALSCALE:GREGORIAN
METHOD:PUBLISH
BEGIN:VEVENT
UID:69e76f8b5bbc8
DTSTAMP:20260421T123731Z
DTSTART:20260627T090000Z
DTEND:20260627T120000Z
LOCATION:FICA - Oficina Criativa (NOVO) Rua Bernardo Lima 10C
SUMMARY:Workshop Animais em Cerâmica
DESCRIPTION:Workshop Animais em Cerâmica Este workshop vai decorrer na nov
 a oficina na Rua Bernardo Lima 10C. 27 de Junho 2026Sábado | 10h – 13hPr
 eço — 55€ (Material incluído)Formadora — Mariana Mesquita da FICA O
 ficina Criativa Descrição A modelação livre permite criar e esboçar co
 m barro de uma forma natural e[..]\nhttps://fica-oc.pt/en/events/workshop-a
 nimais-em-ceramica-junho-2026-01/
URL:https://fica-oc.pt/en/events/workshop-animais-em-ceramica-junho-2026-01/
END:VEVENT
END:VCALENDAR