BEGIN:VCALENDAR
VERSION:2.0
PRODID:-//eventon.com NONSGML v1.0//EN
CALSCALE:GREGORIAN
METHOD:PUBLISH
BEGIN:VEVENT
UID:69e76f91e670c
DTSTAMP:20260421T123737Z
DTSTART:20260516T133000Z
DTEND:20260516T163000Z
LOCATION:FICA - Oficina Criativa (NOVO) Rua Bernardo Lima 10C
SUMMARY:Flash Workshop Marcenaria
DESCRIPTION:Flash Workshop Marcenaria Este workshop vai decorrer na nova of
 icina na Rua Bernardo Lima 10C. 16 de Maio 2026Sábado | 14h30 – 17h30Pre
 ço — 55€ (Material incluído)Formador — Gonçalo Almeida da FICA Ofi
 cina CriativaNota: Este workshop decorre no piso -1\,  acessível apenas po
 r escadas. Descrição O Flash Workshop Marcenaria geralmente[..]\nhttps://
 fica-oc.pt/en/events/flash-workshop-marcenaria-maio-2026-03/
URL:https://fica-oc.pt/en/events/flash-workshop-marcenaria-maio-2026-03/
END:VEVENT
END:VCALENDAR