BEGIN:VCALENDAR
VERSION:2.0
PRODID:-//eventon.com NONSGML v1.0//EN
CALSCALE:GREGORIAN
METHOD:PUBLISH
BEGIN:VEVENT
UID:69e7345035133
DTSTAMP:20260421T082448Z
DTSTART:20260606T090000Z
DTEND:20260606T120000Z
LOCATION:FICA - Oficina Criativa (NOVO) Rua Bernardo Lima 10C
SUMMARY:Flash Workshop Marcenaria
DESCRIPTION:Flash Workshop Marcenaria Este workshop vai decorrer na nova of
 icina na Rua Bernardo Lima 10C. 6 de Junho 2026Sábado | 10h – 13hPreço 
 — 55€ (Material incluído)Formador — Gonçalo Almeida da FICA Oficina
  CriativaNota: Este workshop decorre no piso -1\,  acessível apenas por es
 cadas. Descrição O Flash Workshop Marcenaria geralmente[..]\nhttps://fica
 -oc.pt/en/events/flash-workshop-marcenaria-junho-2026-01/
URL:https://fica-oc.pt/en/events/flash-workshop-marcenaria-junho-2026-01/
END:VEVENT
END:VCALENDAR