BEGIN:VCALENDAR
VERSION:2.0
PRODID:-//eventon.com NONSGML v1.0//EN
CALSCALE:GREGORIAN
METHOD:PUBLISH
BEGIN:VEVENT
UID:69e76f85d13da
DTSTAMP:20260421T123725Z
DTSTART:20260617T090000Z
DTEND:20260617T120000Z
LOCATION:FICA - Oficina Criativa (NOVO) Rua Bernardo Lima 10C
SUMMARY:Flash Workshop Marcenaria
DESCRIPTION:Flash Workshop Marcenaria Este workshop vai decorrer na nova of
 icina na Rua Bernardo Lima 10C. 17 de Junho 2026Quarta-feira | 10h – 13hP
 reço — 55€ (Material incluído)Formador — Gonçalo Almeida da FICA O
 ficina CriativaNota: Este workshop decorre no piso -1\,  acessível apenas 
 por escadas. Descrição O Flash Workshop Marcenaria geralmente[..]\nhttps:
 //fica-oc.pt/en/events/flash-workshop-marcenaria-junho-2026-03/
URL:https://fica-oc.pt/en/events/flash-workshop-marcenaria-junho-2026-03/
END:VEVENT
END:VCALENDAR