BEGIN:VCALENDAR
VERSION:2.0
PRODID:-//eventon.com NONSGML v1.0//EN
CALSCALE:GREGORIAN
METHOD:PUBLISH
BEGIN:VEVENT
UID:69e7706230f01
DTSTAMP:20260421T124106Z
DTSTART:20260423T090000Z
DTEND:20260507T120000Z
LOCATION:FICA - Oficina Criativa (NOVO) Rua Bernardo Lima 10C
SUMMARY:Oficina de Marcenaria
DESCRIPTION:Oficina de Marcenaria Este workshop vai decorrer na nova oficin
 a na Rua Bernardo Lima 10C. 3 sessões de 3 horas | 9 horas no total23\,  3
 0 de Abril e 7 de Maio 2026Quintas-feiras | 10h – 13hPreço — 155€ (M
 aterial incluído)Formador — Gonçalo Almeida da FICA Oficina CriativaNot
 a: Este workshop[..]\nhttps://fica-oc.pt/en/events/oficina-de-marcenaria-5a
 -manha-abril-2026-02/
URL:https://fica-oc.pt/en/events/oficina-de-marcenaria-5a-manha-abril-2026-02/
END:VEVENT
END:VCALENDAR