BEGIN:VCALENDAR
VERSION:2.0
PRODID:-//eventon.com NONSGML v1.0//EN
CALSCALE:GREGORIAN
METHOD:PUBLISH
BEGIN:VEVENT
UID:69e78602a84a2
DTSTAMP:20260421T141322Z
DTSTART:20260514T090000Z
DTEND:20260528T120000Z
LOCATION:FICA - Oficina Criativa (NOVO) Rua Bernardo Lima 10C
SUMMARY:Oficina de Marcenaria
DESCRIPTION:Oficina de Marcenaria Este workshop vai decorrer na nova oficin
 a na Rua Bernardo Lima 10C. 3 sessões de 3 horas | 9 horas no total14\,  2
 1 e 28 de Maio 2026Quintas-feiras | 10h – 13hPreço — 155€ (Material 
 incluído)Formador — Gonçalo Almeida da FICA Oficina CriativaNota: Este 
 workshop decorre no[..]\nhttps://fica-oc.pt/en/events/oficina-de-marcenaria
 -5a-manha-maio-2026-01/
URL:https://fica-oc.pt/en/events/oficina-de-marcenaria-5a-manha-maio-2026-01/
END:VEVENT
END:VCALENDAR