BEGIN:VCALENDAR
VERSION:2.0
PRODID:-//eventon.com NONSGML v1.0//EN
CALSCALE:GREGORIAN
METHOD:PUBLISH
BEGIN:VEVENT
UID:69e76f5ad1a05
DTSTAMP:20260421T123642Z
DTSTART:20260611T173000Z
DTEND:20260625T203000Z
LOCATION:FICA - Oficina Criativa (NOVO) Rua Bernardo Lima 10C
SUMMARY:Oficina de Marcenaria
DESCRIPTION:Oficina de Marcenaria Este workshop vai decorrer na nova oficin
 a na Rua Bernardo Lima 10C. 3 sessões de 3 horas | 9 horas no total11\,  1
 8 e 25 de Junho 2026Quintas-feiras | 18h30 – 21h30Preço — 155€ (Mate
 rial incluído)Formador — Gonçalo Almeida da FICA Oficina CriativaNota: 
 Este workshop decorre no[..]\nhttps://fica-oc.pt/en/events/oficina-de-marce
 naria-5a-noite-junho-2026/
URL:https://fica-oc.pt/en/events/oficina-de-marcenaria-5a-noite-junho-2026/
END:VEVENT
END:VCALENDAR