BEGIN:VCALENDAR
VERSION:2.0
PRODID:-//eventon.com NONSGML v1.0//EN
CALSCALE:GREGORIAN
METHOD:PUBLISH
BEGIN:VEVENT
UID:69e770639cea5
DTSTAMP:20260421T124107Z
DTSTART:20260612T090000Z
DTEND:20260626T120000Z
LOCATION:FICA - Oficina Criativa (NOVO) Rua Bernardo Lima 10C
SUMMARY:Oficina de Marcenaria
DESCRIPTION:Oficina de Marcenaria Este workshop vai decorrer na nova oficin
 a na Rua Bernardo Lima 10C. 3 sessões de 3 horas | 9 horas no total12\,  1
 6 e 26 de Junho 2026Sextas-feiras | 10h – 13hPreço — 155€ (Material 
 incluído)Formador — Gonçalo Almeida da FICA Oficina CriativaNota: Este 
 workshop decorre no[..]\nhttps://fica-oc.pt/en/events/oficina-de-marcenaria
 -6a-manha-junho-2026/
URL:https://fica-oc.pt/en/events/oficina-de-marcenaria-6a-manha-junho-2026/
END:VEVENT
END:VCALENDAR