BEGIN:VCALENDAR
VERSION:2.0
PRODID:-//eventon.com NONSGML v1.0//EN
CALSCALE:GREGORIAN
METHOD:PUBLISH
BEGIN:VEVENT
UID:69e76fa7047d1
DTSTAMP:20260421T123759Z
DTSTART:20260620T090000Z
DTEND:20260704T120000Z
LOCATION:FICA - Oficina Criativa (NOVO) Rua Bernardo Lima 10C
SUMMARY:Oficina de Marcenaria
DESCRIPTION:Oficina de Marcenaria Este workshop vai decorrer na nova oficin
 a na Rua Bernardo Lima 10C. 3 sessões de 3 horas | 9 horas no total20\,  2
 7 de Junho e 4 de Julho 2026Sábados | 10h – 13hPreço — 155€ (Materi
 al incluído)Formador — Gonçalo Almeida da FICA Oficina CriativaNota: Es
 te workshop[..]\nhttps://fica-oc.pt/en/events/oficina-de-marcenaria-sabado-
 junho-2026/
URL:https://fica-oc.pt/en/events/oficina-de-marcenaria-sabado-junho-2026/
END:VEVENT
END:VCALENDAR