BEGIN:VCALENDAR
VERSION:2.0
PRODID:-//eventon.com NONSGML v1.0//EN
CALSCALE:GREGORIAN
METHOD:PUBLISH
BEGIN:VEVENT
UID:69e76fa836ad3
DTSTAMP:20260421T123800Z
DTSTART:20260627T140000Z
DTEND:20260627T170000Z
LOCATION:FICA - Oficina Criativa (NOVO) Rua Bernardo Lima 10C
SUMMARY:Workshop Iniciação ao Crochet
DESCRIPTION:Workshop Iniciação ao CrochetGranny Squares Este workshop vai
  decorrer na nova oficina na Rua Bernardo Lima 10C. 27 de Junho 2026Sábado
  | 15h – 18hPreço — 60€ (Material incluído)Formadora — Rita Kroh 
 Descrição Neste workshop vais aprender a transformar uma linha em tecido\
 ,  usando uma técnica centenária\,  o Crochet. Nada[..]\nhttps://fica-oc.
 pt/en/events/workshop-iniciacao-crochet-junho-2026/
URL:https://fica-oc.pt/en/events/workshop-iniciacao-crochet-junho-2026/
END:VEVENT
END:VCALENDAR