BEGIN:VCALENDAR
VERSION:2.0
PRODID:-//eventon.com NONSGML v1.0//EN
CALSCALE:GREGORIAN
METHOD:PUBLISH
BEGIN:VEVENT
UID:69e7702b20f65
DTSTAMP:20260421T124011Z
DTSTART:20260418T140000Z
DTEND:20260418T170000Z
LOCATION:FICA - Oficina Criativa (NOVO) Rua Bernardo Lima 10C
SUMMARY:Workshop Punch Needle
DESCRIPTION:Workshop Punch Needle Este workshop vai decorrer na nova oficin
 a na Rua Bernardo Lima 10C. 18 de Abril 2026Sábado | 15h – 18hPreço —
  70€ (Material incluído — Cada participante levará no final uma agulh
 a e moldura em madeira com a peça realizada)Formadora — Rita Garcia &#82
 11; Kroh Descrição Neste[..]\nhttps://fica-oc.pt/en/events/workshop-punch
 -needle-abril-2026/
URL:https://fica-oc.pt/en/events/workshop-punch-needle-abril-2026/
END:VEVENT
END:VCALENDAR