BEGIN:VCALENDAR
VERSION:2.0
PRODID:-//eventon.com NONSGML v1.0//EN
CALSCALE:GREGORIAN
METHOD:PUBLISH
BEGIN:VEVENT
UID:69e77073e18b1
DTSTAMP:20260421T124123Z
DTSTART:20260620T090000Z
DTEND:20260620T120000Z
LOCATION:FICA - Oficina Criativa (NOVO) Rua Bernardo Lima 10C
SUMMARY:Workshop Punch Needle
DESCRIPTION:Workshop Punch Needle Este workshop vai decorrer na nova oficin
 a na Rua Bernardo Lima 10C. 20 de Junho 2026Sábado | 10h – 13hPreço —
  70€ (Material incluído — Cada participante levará no final uma agulh
 a e moldura em madeira com a peça realizada)Formadora — Rita Garcia &#82
 11; Kroh Descrição Neste[..]\nhttps://fica-oc.pt/en/events/workshop-punch
 -needle-junho-2026/
URL:https://fica-oc.pt/en/events/workshop-punch-needle-junho-2026/
END:VEVENT
END:VCALENDAR