BEGIN:VCALENDAR
VERSION:2.0
PRODID:-//eventon.com NONSGML v1.0//EN
CALSCALE:GREGORIAN
METHOD:PUBLISH
BEGIN:VEVENT
UID:69e76f8aa52d1
DTSTAMP:20260421T123730Z
DTSTART:20260418T083000Z
DTEND:20260418T123000Z
LOCATION:FICA - Oficina Criativa (NOVO) Rua Bernardo Lima 10C
SUMMARY:Workshop de Tufting
DESCRIPTION:Workshop de Tufting Este workshop vai decorrer na nova oficina 
 na Rua Bernardo Lima 10C. 18 de Abril 2026SÃ¡bado | 9h30 â€“ 13h30PreÃ§o â€
 ” 130â‚¬ (Material incluÃ­do)Formadora â€” Rita KrohNota: Este workshop dec
 orre no piso -1\,  acessÃ­vel apenas por escadas. DescriÃ§Ã£o No workshop d
 e tufting vais criar a tua prÃ³pria[..]\nhttps://fica-oc.pt/en/events/works
 hop-de-tufting-abril-2026/
URL:https://fica-oc.pt/en/events/workshop-de-tufting-abril-2026/
END:VEVENT
END:VCALENDAR