BEGIN:VCALENDAR
VERSION:2.0
PRODID:-//eventon.com NONSGML v1.0//EN
CALSCALE:GREGORIAN
METHOD:PUBLISH
BEGIN:VEVENT
UID:69e7703a81b05
DTSTAMP:20260421T124026Z
DTSTART:20260620T130000Z
DTEND:20260620T170000Z
LOCATION:FICA - Oficina Criativa (NOVO) Rua Bernardo Lima 10C
SUMMARY:Workshop de Tufting
DESCRIPTION:Workshop de Tufting Este workshop vai decorrer na nova oficina 
 na Rua Bernardo Lima 10C. 20 de Junho 2026Sábado | 14h – 18hPreço — 1
 30€ (Material incluído)Formadora — Rita KrohNota: Este workshop decorr
 e no piso -1\,  acessível apenas por escadas. Descrição No workshop de t
 ufting vais criar a tua própria[..]\nhttps://fica-oc.pt/en/events/workshop
 -de-tufting-junho-2026/
URL:https://fica-oc.pt/en/events/workshop-de-tufting-junho-2026/
END:VEVENT
END:VCALENDAR