BEGIN:VCALENDAR
VERSION:2.0
PRODID:-//eventon.com NONSGML v1.0//EN
CALSCALE:GREGORIAN
METHOD:PUBLISH
BEGIN:VEVENT
UID:69e7700590461
DTSTAMP:20260421T123933Z
DTSTART:20260411T090000Z
DTEND:20260411T130000Z
LOCATION:FICA - Oficina Criativa (NOVO) Rua Bernardo Lima 10C
SUMMARY:Workshop Cestaria Tradicional
DESCRIPTION:Workshop Cestaria Tradicional Este workshop vai decorrer na nov
 a oficina na Rua Bernardo Lima 10C. 11 de Abril de 2026Sábado | 10h – 14
 hPreço — 70€ (Material incluído)Formadora — Vânia Reichartz Descr
 ição O Workshop Cestaria Tradicional é uma aula introdutória à constru
 ção de um cesto/ estrutura em medula de vime.A arte[..]\nhttps://fica-oc.
 pt/en/events/workshop-cestaria-tradicional-abril-2026/
URL:https://fica-oc.pt/en/events/workshop-cestaria-tradicional-abril-2026/
END:VEVENT
END:VCALENDAR