BEGIN:VCALENDAR
VERSION:2.0
PRODID:-//eventon.com NONSGML v1.0//EN
CALSCALE:GREGORIAN
METHOD:PUBLISH
BEGIN:VEVENT
UID:69e76fe75e98b
DTSTAMP:20260421T123903Z
DTSTART:20260411T130000Z
DTEND:20260411T170000Z
LOCATION:FICA - Oficina Criativa Rua de Arroios 154B
SUMMARY:Workshop Iniciação à Técnica Do Bunho
DESCRIPTION:Workshop Iniciação à Técnica Do Bunho Este workshop vai dec
 orrer na nova oficina na Rua Bernardo Lima 10C. 11 de Abril 2026Sábado | 1
 4h – 18hPreço — 65€ (Material incluído)Formadora — Manuel Ferreir
 aNota: Este workshop decorre no piso -1\,  acessível apenas por escadas. D
 escrição O bunho é uma fibra natural[..]\nhttps://fica-oc.pt/en/events/w
 orkshop-iniciacao-tecnica-bunho-abril-2026/
URL:https://fica-oc.pt/en/events/workshop-iniciacao-tecnica-bunho-abril-2026/
END:VEVENT
END:VCALENDAR