BEGIN:VCALENDAR
VERSION:2.0
PRODID:-//eventon.com NONSGML v1.0//EN
CALSCALE:GREGORIAN
METHOD:PUBLISH
BEGIN:VEVENT
UID:69e76f93a52d1
DTSTAMP:20260421T123739Z
DTSTART:20260507T173000Z
DTEND:20260514T203000Z
LOCATION:FICA - Oficina Criativa (NOVO) Rua Bernardo Lima 10C
SUMMARY:Oficina de Serigrafia
DESCRIPTION:Oficina de Serigrafia Este workshop vai decorrer na nova oficin
 a na Rua Bernardo Lima 10C. 2 sessões de 3 horas | 6 horas no total7 e 14 
 de Maio 2026Quintas-feiras | 18h30 – 21h30Preço — 95€ (Material incl
 uído)Formadora — Rita Daniel da FICA Oficina CriativaNota: Este workshop
  decorre no piso[..]\nhttps://fica-oc.pt/en/events/oficina-de-serigrafia-ma
 io-2026/
URL:https://fica-oc.pt/en/events/oficina-de-serigrafia-maio-2026/
END:VEVENT
END:VCALENDAR