BEGIN:VCALENDAR
VERSION:2.0
PRODID:-//eventon.com NONSGML v1.0//EN
CALSCALE:GREGORIAN
METHOD:PUBLISH
BEGIN:VEVENT
UID:69e770a2dbe14
DTSTAMP:20260421T124210Z
DTSTART:20260505T173000Z
DTEND:20260519T203000Z
LOCATION:FICA - Oficina Criativa (NOVO) Rua Bernardo Lima 10C
SUMMARY:Workshop Encaixes em  Marcenaria
DESCRIPTION:Workshop encaixes em Marcenaria 3 sessÃµes de 3 horas | 9 horas
  no total5\,  12 e 19 de Maio 2026TerÃ§as-feiras | 18h30 â€“ 21h30PreÃ§o â€
 ” 160â‚¬ (Material incluÃ­do)Formador â€” JoÃ£o EsquecidoNota: Este worksho
 p decorre no piso -1\,  acessÃ­vel apenas por escadas. DescriÃ§Ã£o No Works
 hop Encaixes em Marcenaria abordamos os encaixes[..]\nhttps://fica-oc.pt/en
 /events/workshop-encaixes-em-marcenaria-maio-2026/
URL:https://fica-oc.pt/en/events/workshop-encaixes-em-marcenaria-maio-2026/
END:VEVENT
END:VCALENDAR