BEGIN:VCALENDAR
VERSION:2.0
PRODID:-//eventon.com NONSGML v1.0//EN
CALSCALE:GREGORIAN
METHOD:PUBLISH
BEGIN:VEVENT
UID:69e770216fbb9
DTSTAMP:20260421T124001Z
DTSTART:20260513T173000Z
DTEND:20260527T203000Z
LOCATION:FICA - Oficina Criativa (NOVO) Rua Bernardo Lima 10C
SUMMARY:Workshop de Marchetaria
DESCRIPTION:Workshop de Marchetaria 3 sessÃµes de 3 horas | 9 horas no tota
 l13\,  20 e 27 de Maio 2026Quartas-feiras | 18h30 â€“ 21h30PreÃ§o â€” 155â‚
 ¬ (Material incluÃ­do)Formador â€” Jacky CavallariNota: Este workshop decor
 re no piso -1\,  acessÃ­vel apenas por escadas. DescriÃ§Ã£o A marchetaria Ã
 © a arte de recortar e combinar[..]\nhttps://fica-oc.pt/en/events/workshop-
 de-marchetaria-maio-2026/
URL:https://fica-oc.pt/en/events/workshop-de-marchetaria-maio-2026/
END:VEVENT
END:VCALENDAR