BEGIN:VCALENDAR
VERSION:2.0
PRODID:-//eventon.com NONSGML v1.0//EN
CALSCALE:GREGORIAN
METHOD:PUBLISH
BEGIN:VEVENT
UID:69ea45abc72db
DTSTAMP:20260423T161539Z
DTSTART:20260502T133000Z
DTEND:20260502T163000Z
LOCATION:FICA - Oficina Criativa (NOVO) Rua Bernardo Lima 10C
SUMMARY:Workshop Nerikomi
DESCRIPTION:Workshop Nerikomi Este workshop vai decorrer na nova oficina na
  Rua Bernardo Lima 10C. 2 de Maio 2026Sábado | 14h30-17h30Preço — 65€
  (Material incluído)Formadora — Mariana Costa da FICA Oficina Criativa D
 escrição Nerikomi é uma técnica japonesa que permite criar padrões em 
 peças cerâmicas\,  através da posição específica de diferentes[..]\nh
 ttps://fica-oc.pt/en/events/workshop-nerikomi-maio-2026-02/
URL:https://fica-oc.pt/en/events/workshop-nerikomi-maio-2026-02/
END:VEVENT
END:VCALENDAR